Workbook
Name Klassifikation: Klassifikation!$A$1:$A$4
Name Vejledning: Klassifikation!$A$1:$A$5

Sheet 1. Vejledning
U3: Version 26.03.2019
A5: Vejledning til analyserekvisition
A7: Analyserekvisitionen består af tre faneblade.
D9: 1. Vejledning
D11: 2. Fødevarer
A16: Den udfyldte analyserekvisition mailes til info.hmb@alsglobal.com i Excel-format
A18: Nedenstående oplysninger udfyldes på denne side og overføres automatisk til alle faneblade
A20: Virksomhed: | N20: Tilbud nr.:
A21: Adresse:
C23: Rekvirent: | L23: Faktura stiles til:
A24: Firma
A25: Adresse
A26: Postnr./by
A27: Att.:
A28: Telefonnummer
A29: Mail adresse:
A30: EAN / fakturamail: | C30: Udfyldes under "Faktura stiles til"
A31: Fakturareference:
A33: SEND REKVISITION

Sheet 2. Fødevarer
A1: Analyserekvisition Fødevarer
A4: ='1. Vejledning'!A20 -> Virksomhed: | B4: =IF('1. Vejledning'!B20="","",'1. Vejledning'!B20) | N4: Tilbud nr. | Q4: =IF('1. Vejledning'!Q20="","",'1. Vejledning'!Q20)
A5: Adresse: | B5: =IF('1. Vejledning'!B21="","",'1. Vejledning'!B21) | F5: =IF('1. Vejledning'!F21="","",'1. Vejledning'!F21) | J5: =IF('1. Vejledning'!J21="","",'1. Vejledning'!J21) | N5: =IF('1. Vejledning'!N21="","",'1. Vejledning'!N21) | R5: =IF('1. Vejledning'!R21="","",'1. Vejledning'!R21)
A8: Prøvetager: | K8: Hasteanalyse (kun iflg. aftale med laboratoriet)
K9: Normal leveringstid (se prisliste)
A10: Udtagningsdato:
A12: Rekvisitionsdato: | I12: Resultat ønskes senest kl.
C14: ='1. Vejledning'!C23 -> Rekvirent: | L14: Faktura stiles til:
A15: Firma | C15: =IF('1. Vejledning'!C24="","",'1. Vejledning'!C24) | L15: =IF('1. Vejledning'!L24="","",'1. Vejledning'!L24)
A16: Adresse | C16: =IF('1. Vejledning'!C25="","",'1. Vejledning'!C25) | L16: =IF('1. Vejledning'!L25="","",'1. Vejledning'!L25)
A17: Postnr./by | C17: =IF('1. Vejledning'!C26="","",'1. Vejledning'!C26) | L17: =IF('1. Vejledning'!L26="","",'1. Vejledning'!L26)
A18: Att.: | C18: =IF('1. Vejledning'!C27="","",'1. Vejledning'!C27) | L18: =IF('1. Vejledning'!L27="","",'1. Vejledning'!L27)
A19: Telefonnummer | C19: =IF('1. Vejledning'!C28="","",'1. Vejledning'!C28) | L19: =IF('1. Vejledning'!L28="","",'1. Vejledning'!L28)
A20: Mail adresse: | C20: =IF('1. Vejledning'!C29="","",'1. Vejledning'!C29) | L20: =IF('1. Vejledning'!L29="","",'1. Vejledning'!L29)
A21: EAN / fakturamail: | L21: =IF('1. Vejledning'!L30="","",'1. Vejledning'!L30)
A22: Fakturareference: | L22: =IF('1. Vejledning'!L31="","",'1. Vejledning'!L31)
A24: Bemærkninger:
E29: Lab.nr.
C31: Produktionsdato
A36: Prøve ID F.eks: Produktnavn Batch nr.

Sheet Klassifikation
A1: Sjælland
A2: Sjælland med kl. 0
A3: Aarhus
A4: Nordjylland
A5: Bekendtgørelse 1479, juli 2010
