Workbook
Name Stand_typ: DropDown!$A$7:$A$10

Sheet Deutsch
F2: Diese Preiskalkulation ist unverbindlich. Alle Angaben erfolgen ohne Gewähr.
F3: Standfläche in m² | H3: Stand-Form | I3: Mehrwertsteuer (Deutschland 19%, Andere 0%)
C5: Bitte gewünschte Standfläche eintragen | F5: 9 | H5: Reihenstand | I5: 0.19 | K5: www.brau-beviale.de
I6: Aussteller aus Deutschland 19% ; Andere 0%
C7: Die Felder ‚Stand-Form‘ und ‚Mehrwertsteuer‘ verfügen über Dropdown-Menüs
F8: Hier geht es direkt zur Anmeldung: | H8: https://www.care-xpo.de/de-de/ausstellen/stand-buchen
B9: Preiskalkulation Die Mindeststandfläche variiert je nach Standform. Die Zuweisung der Standform erfolgt im Rahmen der Aufplanung. Ein Anspruch auf eine bestimmte Standform besteht nicht. | E9: Reihenstand (224 €/m²; 1 Seite offen; mind. 9 m²) | F9: Eckstand (251 €/m2; 2 Seiten offen; mind. 12 m²) | G9: Kopfstand (259 €/m²; 3 Seiten offen; mind. 30 m²) | H9: Blockstand (271 €/m²; 4 Seiten offen; mind. 50 m²)
B10: Mietpreis für Standfläche | E10: =224*F5 -> 2016 | F10: =251*F5 -> 2259 | G10: =259*F5 -> 2331 | H10: =271*F5 -> 2439 | Q10: 0 | R10: 0.19
B13: AUMA-Beitrag | C13: =DropDown!C12 -> 0.6 | D13: pro m² | E13: =C13*F5 -> 5.4 | F13: =C13*F5 -> 5.4 | G13: =C13*F5 -> 5.4 | H13: =C13*F5 -> 5.4 | I13: =DropDown!C24 -> www.auma.de | K13: www.auma.de
B15: Entsorgungsservice Laufzeit | C15: 6.4 | D15: pro m² | E15: =C15*F5 -> 57.6 | F15: =C15*F5 -> 57.6 | G15: =C15*F5 -> 57.6 | H15: =C15*F5 -> 57.6
B17: Marketing-Services* | C17: 679 | D17: Stück | E17: =C17 -> 679 | F17: =C17 -> 679 | G17: =C17 -> 679 | H17: =C17 -> 679
B18: Gesamtbetrag der Beteiligung ohne Standbau/netto | E18: =SUM(E10:E17) -> 2758 | F18: =SUM(F10:F17) -> 3001 | G18: =SUM(G10:G17) -> 3073 | H18: =SUM(H10:H17) -> 3181
B19: zzgl. Mehrwertsteuer | C19: =I5 -> 0.19 | D19: Mwst. | E19: =IF($C$19="-auswählen-",0,E18*$C$19) -> 524.02 | F19: =IF($C$19="-auswählen-",0,F18*$C$19) -> 570.19 | G19: =IF($C$19="-auswählen-",0,G18*$C$19) -> 583.87 | H19: =IF($C$19="-auswählen-",0,H18*$C$19) -> 604.39
B20: Gesamtbetrag der Beteiligung ohne Standbau/brutto | E20: =E18+E19 -> 3282.02 | F20: =F18+F19 -> 3571.19 | G20: =G18+G19 -> 3656.87 | H20: =H18+H19 -> 3785.39
B23: 0
B24: 6

Sheet Englisch
F2: Achtung: Kopf- und Blockstände sind nur bei größeren Flächen möglich! Spesen, Personal- und Transportkosten können von uns nicht kallkuliert werden. Mindeststandgröße sind 15 m² (s. Punkt 7 Besondere Teilnahmebedingungen) Die Preiskalkulation ist unverbindlich und alle Angeben ohne Gewähr.
F3: Stand | G3: Stand space in m² | I3: =DropDown!#REF! -> #REF! | J3: Value added tax (Germany 19%, Others 0%)
I4: =DropDown!#REF! -> #REF!
C5: Please select | G5: 50 | I5: Yes | J5: 0.19
I6: Aussteller aus Deutschland 19% ; Andere 0%
I8: =DropDown!E23 -> www.feuertrutz-messe.de/en
B9: Calculation | E9: In-line stand | F9: Corner stand | G9: Peninsula stand | H9: Island stand
B10: Rental fee for stand space | E10: =IF(G5<15,0,DropDown!C7*Englisch!G5) -> 10150 | F10: =IF(G5<20,0,DropDown!C8*Englisch!G5) -> 11050 | G10: =IF(G5<25,0,DropDown!C9*Englisch!G5) -> 11450 | H10: =IF(G5<30,0,DropDown!C10*Englisch!G5) -> 11900 | P10: 0 | Q10: 0.19
B11: =DropDown!#REF! -> #REF! | C11: =IF(I5="yes",DropDown!#REF!,0) -> #REF! | D11: per m² | E11: =-(C11*G5) -> #REF! | F11: =-(C11*G5) -> #REF! | G11: =-(G5*C11) -> #REF! | H11: =-(G5*C11) -> #REF!
B13: AUMA-contribution | C13: =DropDown!C12 -> 0.6 | D13: per m² | E13: =C13*G5 -> 30 | F13: =C13*G5 -> 30 | G13: =C13*G5 -> 30 | H13: =C13*G5 -> 30 | I13: =DropDown!E24 -> www.auma.de/en/ | K13: www.auma.de
B15: Print communication package | C15: =DropDown!C14 -> 630 | D15: Pcs | E15: =C15 -> 630 | F15: =C15 -> 630 | G15: =C15 -> 630 | H15: =C15 -> 630
B16: Online communication package | C16: =DropDown!C15 -> 3.5 | D16: Pcs | E16: =C16 -> 3.5 | F16: =C16 -> 3.5 | G16: =C16 -> 3.5 | H16: =C16 -> 3.5
B17: Total investment without stand construction/net | E17: =SUM(E10:E16) -> #REF! | F17: =SUM(F10:F16) -> #REF! | G17: =SUM(G10:G16) -> #REF! | H17: =SUM(H10:H16) -> #REF!
B18: + Value added tax | C18: =J5 -> 0.19 | D18: VAT | E18: =IF($C$18="-choose-",0,E17*$C$18) -> #REF! | F18: =IF($C$18="-choose-",0,F17*$C$18) -> #REF! | G18: =IF($C$18="-choose-",0,G17*$C$18) -> #REF! | H18: =IF($C$18="-choose-",0,H17*$C$18) -> #REF!
B19: Total investment without stand construction/gross | E19: =E17+E18 -> #REF! | F19: =F17+F18 -> #REF! | G19: =G17+G18 -> #REF! | H19: =H17+H18 -> #REF!
B22: Example Complete rental stand (Minimum stand space 9m²)
B23: Complete price incl. power supply up to 3kw and consumption | I23: =DropDown!E25 -> www.standconfigurator.com | K23: www.standkonfigurator.de
B24: JUNO/PALLAS net | C24: =DropDown!C18 -> 68 | D24: per m² | E24: =IF(G5<9,9*C24,C24*G5) -> 3400
B25: + Value added tax | C25: =J5 -> 0.19 | D25: VAT | E25: =IF($C$25="-choose-",0,E24*C25) -> 646
B26: Total investment with stand construction/gross | E26: =E19+E24+E25 -> #REF! | F26: =F19+E24+E25 -> #REF! | G26: =G19+E24+E25 -> #REF! | H26: =H19+E24+E25 -> #REF!
B28: MARS/MERCURY net | C28: =DropDown!C19 -> 94.9 | D28: per m² | E28: =IF(G5<9,9*C28,C28*G5) -> 4745
B29: + Value added tax | C29: =J5 -> 0.19 | D29: VAT | E29: =IF($C$25="-choose-",0,E28*C29) -> 901.55
B30: Total investment with stand construction/gross | E30: =E19+E28+E29 -> #REF! | F30: =F19+E28+E29 -> #REF! | G30: =G19+E28+E29 -> #REF! | H30: =H19+E28+E29 -> #REF!
B32: EARTH/MOON net | C32: =DropDown!C20 -> 124.5 | D32: per m² | E32: =IF(G5<9,9*C32,C32*G5) -> 6225
B33: + Value added tax | C33: =J5 -> 0.19 | D33: VAT | E33: =IF($C$25="-choose-",0,E32*C33) -> 1182.75
B34: Total investment with stand construction/gross | E34: =E19+E32+E33 -> #REF! | F34: =F19+E32+E33 -> #REF! | G34: =G19+E32+E33 -> #REF! | H34: =H19+E32+E33 -> #REF!
B37: 0
B38: 6

Sheet DropDown
A3: Mehrwertsteuer | B3: 0 | C3: -auswählen- | E3: -choose-
B4: 0 | C4: 0 | E4: =C4 -> 0
B5: 19 | C5: 0.19 | E5: =C5 -> 0.19
A7: Reihenstand | C7: 203 | E7: =C7 -> 203
A8: Eckstand | C8: 221 | E8: =C8 -> 221
A9: Kopfstand | C9: 229 | E9: =C9 -> 229
A10: Blockstand | C10: 238 | E10: =C10 -> 238
A12: AUMA-Beitrag | C12: 0.6 | E12: =C12 -> 0.6
A14: Marketing-Services | C14: 630 | E14: =C14 -> 630
A15: Entsorgungspauschale | C15: 3.5 | E15: =C15 -> 3.5
A16: Matchmaking-Funktion für Direkt- und Mitaussteller | C16: 250 | E16: =C16 -> 250
A18: Miet-Komplettstand FeuerTRUTZ 1/2 | C18: 68 | E18: =C18 -> 68
A19: Miet-Komplettstand MARS/MERKUR | C19: 94.9 | E19: =C19 -> 94.9
A20: Miet-Komplettstand ERDE/MOND | C20: 124.5 | E20: =C20 -> 124.5
A23: Internet | C23: www.feuertrutz-messe.de/anmeldung | E23: www.feuertrutz-messe.de/en
C24: www.auma.de | E24: www.auma.de/en/
C25: www.standkonfigurator.de | E25: www.standconfigurator.com
