Workbook

Sheet Deutsch
F2: Achtung: Kopf- und Blockstände sind nur bei größeren Flächen möglich! Spesen, Personal- und Transportkosten können von uns nicht kallkuliert werden. Mindeststandgröße sind 12 m² (s. Punkt 7 Besondere Teilnahmebedingungen) Die Preiskalkulation ist unverbindlich und alle Angaben ohne Gewähr.
F3: Standfläche in m² | G3: Anzahl Mitaussteller | H3: Mehrwertsteuer
B4: 12. - 15. September 2028
C5: Bitte Auswahl treffen | F5: 21 | H5: 0.19
J6: Aussteller aus Deutschland 19% ; Andere 0%
I7: =DropDown!C31 -> www.galabau-messe.com/de-de/ausstellen/stand-buchen
B8: Preiskalkulation | E8: Reihenstand 237€ | F8: Eckstand 256€ | G8: Kopfstand 274€ | H8: Blockstand 288€
B9: Mietpreis für Standfläche | E9: =IF($F$5>=12,DropDown!C13*$F$5,"Error") -> 4977 | F9: =IF($F$5>=12,DropDown!C14*$F$5,"Error") -> 5376 | G9: =IF($F$5>=12,DropDown!C15*$F$5,"Error") -> 5754 | H9: =IF($F$5>=12,DropDown!C16*$F$5,"Error") -> 6048 | Q9: 0 | R9: 0.19
B10: Mitausstellergebühr | C10: =DropDown!C24 -> 1400 | E10: =G5*$C$10 -> 0 | F10: =G5*$C$10 -> 0 | G10: =G5*$C$10 -> 0 | H10: =G5*$C$10 -> 0
B11: Marketing-Services | C11: =DropDown!C22 -> 1300 | D11: Stück | E11: =C11 -> 1300 | F11: =C11 -> 1300 | G11: =E11 -> 1300 | H11: =E11 -> 1300
B12: Weitere obligatorische Pakete | C12: =DropDown!C23 -> 0 | D12: Stück | E12: =C12 -> 0 | F12: =C12 -> 0 | G12: =C12 -> 0 | H12: =C12 -> 0
B13: AUMA-Beitrag | C13: =DropDown!C18 -> 0.8 | D13: pro m² | E13: =C13*F5 -> 16.8 | F13: =C13*F5 -> 16.8 | G13: =C13*F5 -> 16.8 | H13: =C13*F5 -> 16.8 | K13: www.auma.de
B14: Entsorgungsservice Laufzeit (bis zu einer max. Fläche von 500m²) | C14: =DropDown!C20 -> 6.4 | D14: pro m² | E14: =IF($F$5<500,$F$5*$C$14,500*$C$14) -> 134.4 | F14: =IF($F$5<500,$F$5*$C$14,500*$C$14) -> 134.4 | G14: =IF($F$5<500,$F$5*$C$14,500*$C$14) -> 134.4 | H14: =IF($F$5<500,$F$5*$C$14,500*$C$14) -> 134.4 | I14: =DropDown!C32 -> www.auma.de
B15: Gesamtbetrag Beteiligung ohne Standbau/netto | E15: =E9+E10+E11+E12+E13+E14 -> 6428.2 | F15: =F9+F10+F11+F12+F13+F14 -> 6827.2 | G15: =G9+G10+G11+G12+G13+G14 -> 7205.2 | H15: =H9+H10+H11+H12+H13+H14 -> 7499.2
B16: + Mehrwertsteuer | C16: =H5 -> 0.19 | D16: Mwst. | E16: =IF($C$16="-auswählen-",0,E15*$C$16) -> 1221.36 | F16: =IF($C$16="-auswählen-",0,F15*$C$16) -> 1297.17 | G16: =IF($C$16="-auswählen-",0,G15*$C$16) -> 1368.99 | H16: =IF($C$16="-auswählen-",0,H15*$C$16) -> 1424.85
B17: Gesamtbetrag Beteiligung ohne Standbau/brutto | E17: =E15+E16 -> 7649.56 | F17: =F15+F16 -> 8124.37 | G17: =G15+G16 -> 8574.19 | H17: =H15+H16 -> 8924.05
B19: * Bitten bestellen Sie Ihren Miet-Komplettstand unter www.standkonfigurator.de
K21: www.standkonfigurator.de
B32: 0
B33: 6

Sheet DropDown
A9: Mehrwertsteuer | C9: -auswählen- | E9: -choose-
C10: 0 | E10: =C10 -> 0
C11: 0.19 | E11: =C11 -> 0.19
A13: Reihenstand | C13: 237
A14: Eckstand | C14: 256
A15: Kopfstand | C15: 274
A16: Blockstand | C16: 288
A18: AUMA-Beitrag | C18: 0.8
A20: Entsorgungsservice Laufzeit | C20: 6.4
A22: Marketing-Services | C22: 1300
A23: Company & Product Paket | C23: 0
A24: Mitausstellergebühr | C24: 1400
A26: HELIOS | C26: 0
A27: TRITON | C27: 0
A28: THETYS | C28: 0
A31: Veranstaltungswebseite | C31: www.galabau-messe.com/de-de/ausstellen/stand-buchen | E31: www.galabau-messe.com/en/exhibit/book-your-stand
A32: AUMA | C32: www.auma.de | E32: www.auma.de/en/
A33: Standkonfigurator | C33: weitere Miet-Komplettstände: www.standkonfigurator.de | E33: more complete rental stands: www.standconfigurator.com
C36: ja | E36: yes
C37: nein | E37: no

Sheet Vorlage Bilder Standbau
A1: Veranstaltungsname 1 | B1: Veranstaltungsname 2
A3: JUNO | B3: PALLAS
A5: MARS | B5: MERKUR
A7: ERDE | B7: MOND
